BEGIN:VCALENDAR
VERSION:2.0
PRODID:SchoolNow
CALSCALE:GREGORIAN
BEGIN:VEVENT
UID:f18fddcc-97c2-11f0-8dba-0afffb2ad397
DTSTAMP:20251216T214632Z
SUMMARY:MS Football @ Hamilton\, 4:30/5:30\, Depart 12:00
URL;VALUE=URI:https://www.polson.k12.mt.us/polson-middle-school/calendar/86
 52254/ms-football-hamilton-4-30-5-30-depart-12-00
DTSTART:20251014T223000Z
DTEND:20251015T010000Z
END:VEVENT
END:VCALENDAR
