BEGIN:VCALENDAR
VERSION:2.0
PRODID:SchoolNow
CALSCALE:GREGORIAN
BEGIN:VEVENT
UID:f18fdcc8-97c2-11f0-98c6-0afffb2ad397
DTSTAMP:20251216T214632Z
SUMMARY:PMS Cross Country\, Home Meet- Mission Shadows Duels- G-12:00\, B- 
 12:30\, NO BUS
URL;VALUE=URI:https://www.polson.k12.mt.us/polson-middle-school/calendar/86
 52253/pms-cross-country-home-meet-mission-shadows-duels-g-12-00-b-12-30-no
 -bus
DTSTART:20251011T180000Z
DTEND:20251011T190000Z
END:VEVENT
END:VCALENDAR
