BEGIN:VCALENDAR
VERSION:2.0
PRODID:SchoolNow
CALSCALE:GREGORIAN
BEGIN:VEVENT
UID:f18fdb92-97c2-11f0-b521-0afffb2ad397
DTSTAMP:20251216T214632Z
SUMMARY:MS Football Home vs Evergreen\, 4/5:00
URL;VALUE=URI:https://www.polson.k12.mt.us/polson-middle-school/calendar/86
 52252/ms-football-home-vs-evergreen-4-5-00
DTSTART:20251009T220000Z
DTEND:20251010T000000Z
END:VEVENT
END:VCALENDAR
