BEGIN:VCALENDAR
VERSION:2.0
PRODID:SchoolNow
CALSCALE:GREGORIAN
BEGIN:VEVENT
UID:f18fd868-97c2-11f0-9b5b-0afffb2ad397
DTSTAMP:20251216T214632Z
SUMMARY:MS Cross Country @ Hamilton (Daley Mansion) B- 5:10\, G- 5:35\, Dep
 art 1:00
URL;VALUE=URI:https://www.polson.k12.mt.us/polson-middle-school/calendar/86
 52251/ms-cross-country-hamilton-daley-mansion-b-5-10-g-5-35-depart-1-00
DTSTART:20251002T231500Z
DTEND:20251003T001500Z
END:VEVENT
END:VCALENDAR
