BEGIN:VCALENDAR
VERSION:2.0
PRODID:SchoolNow
CALSCALE:GREGORIAN
BEGIN:VEVENT
UID:1c621cf4-91c9-11f0-887c-02598f6e8d41
DTSTAMP:20251216T214632Z
SUMMARY:PMS Volleyball @ Ronan- 6th\, 7th B\,A\, 8thA- 4/5/6/7:00\, Depart 
 2:30
URL;VALUE=URI:https://www.polson.k12.mt.us/polson-middle-school/calendar/86
 22174/pms-volleyball-ronan-6th-7th-b-a-8tha-4-5-6-7-00-depart-2-30
DTSTART:20250923T220000Z
DTEND:20250924T010000Z
END:VEVENT
END:VCALENDAR
