BEGIN:VCALENDAR
VERSION:2.0
PRODID:SchoolNow
CALSCALE:GREGORIAN
BEGIN:VEVENT
UID:1c621c04-91c9-11f0-b767-02598f6e8d41
DTSTAMP:20251216T214632Z
SUMMARY:PMS Volleyball @ Mission-- All 6th\, 7th\, 8th\, 4&5:00\, Depart 2:
 15\,  /4:00 Court 1- 6th- best 2 of 3 sets /4:00 Court 2- 7th B-2 sets\, 7
 th A- 2sets\; B plays 5th set /5:00 Court 1- 8th B 2 sets\, 8th A- 2 sets\
 ; B plays 5th set
URL;VALUE=URI:https://www.polson.k12.mt.us/polson-middle-school/calendar/86
 22173/pms-volleyball-mission-all-6th-7th-8th-4-5-00-depart-2-15-4-00-court
 -1-6th-best-2-of-3-sets-4-00-court-2-7th-b-2-sets-7th-a-2sets-b-plays-5th-
 set-5-00-court-1-8th-b-2-sets-8th-a-2-sets-b-plays-5th-set
DTSTART:20250925T220000Z
DTEND:20250926T010000Z
END:VEVENT
END:VCALENDAR
