BEGIN:VCALENDAR
VERSION:2.0
PRODID:SchoolNow
CALSCALE:GREGORIAN
BEGIN:VEVENT
UID:1c621b00-91c9-11f0-8347-02598f6e8d41
DTSTAMP:20251216T214632Z
SUMMARY:PMS Football @ Ronan\, 4:30/5:30\, depart 3:00
URL;VALUE=URI:https://www.polson.k12.mt.us/polson-middle-school/calendar/86
 22172/pms-football-ronan-4-30-5-30-depart-3-00
DTSTART:20250930T220000Z
DTEND:20251001T013000Z
END:VEVENT
END:VCALENDAR
