BEGIN:VCALENDAR
VERSION:2.0
PRODID:SchoolNow
CALSCALE:GREGORIAN
BEGIN:VEVENT
UID:1c6219fc-91c9-11f0-9078-02598f6e8d41
DTSTAMP:20251216T214632Z
SUMMARY:PMS Volleyball Home vs. Hamilton\, 7th grade teams 4/5:00
URL;VALUE=URI:https://www.polson.k12.mt.us/polson-middle-school/calendar/86
 22171/pms-volleyball-home-vs-hamilton-7th-grade-teams-4-5-00
DTSTART:20250930T220000Z
DTEND:20251001T000000Z
END:VEVENT
END:VCALENDAR
