BEGIN:VCALENDAR
VERSION:2.0
PRODID:SchoolNow
CALSCALE:GREGORIAN
BEGIN:VEVENT
UID:1c62190c-91c9-11f0-9114-02598f6e8d41
DTSTAMP:20251216T214632Z
SUMMARY:PMS Cross Country @ U of M\, Mountain West Classic\, B-12:20\, G-12
 :45\, Depart 10:00am
URL;VALUE=URI:https://www.polson.k12.mt.us/polson-middle-school/calendar/86
 22170/pms-cross-country-u-of-m-mountain-west-classic-b-12-20-g-12-45-depar
 t-10-00am
DTSTART:20250920T160000Z
DTEND:20250920T220000Z
END:VEVENT
END:VCALENDAR
