BEGIN:VCALENDAR
VERSION:2.0
PRODID:SchoolNow
CALSCALE:GREGORIAN
BEGIN:VEVENT
UID:1c621808-91c9-11f0-aca2-02598f6e8d41
DTSTAMP:20251216T214632Z
SUMMARY:PMS Cross Country @ Thompson Falls\, G- 11:00\, B- 11:30\, Depart 8
 :00am
URL;VALUE=URI:https://www.polson.k12.mt.us/polson-middle-school/calendar/86
 22169/pms-cross-country-thompson-falls-g-11-00-b-11-30-depart-8-00am
DTSTART:20250927T140000Z
DTEND:20250927T210000Z
END:VEVENT
END:VCALENDAR
