BEGIN:VCALENDAR
VERSION:2.0
PRODID:SchoolNow
CALSCALE:GREGORIAN
BEGIN:VEVENT
UID:1c6216fa-91c9-11f0-a7dc-02598f6e8d41
DTSTAMP:20251216T214632Z
SUMMARY:PMS Football @ Bigfork 4:00/5:00\, Depart 2:00
URL;VALUE=URI:https://www.polson.k12.mt.us/polson-middle-school/calendar/86
 22168/pms-football-bigfork-4-00-5-00-depart-2-00
DTSTART:20250923T220000Z
DTEND:20250924T010000Z
END:VEVENT
END:VCALENDAR
