BEGIN:VCALENDAR
VERSION:2.0
PRODID:SchoolNow
CALSCALE:GREGORIAN
BEGIN:VEVENT
UID:1c6215ba-91c9-11f0-9855-02598f6e8d41
DTSTAMP:20251216T214632Z
SUMMARY:PMS Volleyball Home vs. Bigfork\, 4:00/5:00
URL;VALUE=URI:https://www.polson.k12.mt.us/polson-middle-school/calendar/86
 22167/pms-volleyball-home-vs-bigfork-4-00-5-00
DTSTART:20250922T220000Z
DTEND:20250923T000000Z
END:VEVENT
END:VCALENDAR
