BEGIN:VCALENDAR
VERSION:2.0
PRODID:SchoolNow
CALSCALE:GREGORIAN
BEGIN:VEVENT
UID:1c62120e-91c9-11f0-8f03-02598f6e8d41
DTSTAMP:20251216T214632Z
SUMMARY:PMS Volleyball vs KMS\, 7th @ KMS\, 8th home\; Bus loads at 2:15
URL;VALUE=URI:https://www.polson.k12.mt.us/polson-middle-school/calendar/86
 22166/pms-volleyball-vs-kms-7th-kms-8th-home-bus-loads-at-2-15
DTSTART:20250918T220000Z
DTEND:20250919T010000Z
END:VEVENT
END:VCALENDAR
