BEGIN:VCALENDAR
VERSION:2.0
PRODID:SchoolNow
CALSCALE:GREGORIAN
BEGIN:VEVENT
UID:2e3c1afe-8906-11f0-b950-0a58a9feac02
DTSTAMP:20251216T214632Z
SUMMARY:PMS Volleyball home vs Hamilton- 8th grade 4:00/5:00
URL;VALUE=URI:https://www.polson.k12.mt.us/polson-middle-school/calendar/85
 75869/pms-volleyball-home-vs-hamilton-8th-grade-4-00-5-00
DTSTART:20250916T220000Z
DTEND:20250917T000000Z
END:VEVENT
END:VCALENDAR
