BEGIN:VCALENDAR
VERSION:2.0
PRODID:SchoolNow
CALSCALE:GREGORIAN
BEGIN:VEVENT
UID:2e3c1a22-8906-11f0-b935-0a58a9feac02
DTSTAMP:20251216T214632Z
SUMMARY:Changed: PMS Football @ Kalispell moved up by one hour. 7th-3:00\, 
 8th-4:00\, Bus departs at 12:30
URL;VALUE=URI:https://www.polson.k12.mt.us/polson-middle-school/calendar/85
 75868/changed-pms-football-kalispell-moved-up-by-one-hour-7th-3-00-8th-4-0
 0-bus-departs-at-12-30
DTSTART:20250916T220000Z
DTEND:20250917T020000Z
END:VEVENT
END:VCALENDAR
