BEGIN:VCALENDAR
VERSION:2.0
PRODID:SchoolNow
CALSCALE:GREGORIAN
BEGIN:VEVENT
UID:2e3c1932-8906-11f0-8ef6-0a58a9feac02
DTSTAMP:20251216T214632Z
SUMMARY:PMS Volleyball home vs Ronan 4:00\, 5:00\, 6:00
URL;VALUE=URI:https://www.polson.k12.mt.us/polson-middle-school/calendar/85
 75867/pms-volleyball-home-vs-ronan-4-00-5-00-6-00
DTSTART:20250915T220000Z
DTEND:20250916T010000Z
END:VEVENT
END:VCALENDAR
