BEGIN:VCALENDAR
VERSION:2.0
PRODID:SchoolNow
CALSCALE:GREGORIAN
BEGIN:VEVENT
UID:2e3c1838-8906-11f0-8443-0a58a9feac02
DTSTAMP:20251216T214632Z
SUMMARY:PMS Football home vs Eureka\, 11- 6th\, 12:00- 7th/8th Combined
URL;VALUE=URI:https://www.polson.k12.mt.us/polson-middle-school/calendar/85
 75866/pms-football-home-vs-eureka-11-6th-12-00-7th-8th-combined
DTSTART:20250913T170000Z
DTEND:20250913T200000Z
END:VEVENT
END:VCALENDAR
