BEGIN:VCALENDAR
VERSION:2.0
PRODID:SchoolNow
CALSCALE:GREGORIAN
BEGIN:VEVENT
UID:2e3c170c-8906-11f0-a165-0a58a9feac02
DTSTAMP:20251216T214632Z
SUMMARY:PMS Cross Country @ Corvallis G-12:40\, B- 1:20\, Bus departs at 9:
 00 am
URL;VALUE=URI:https://www.polson.k12.mt.us/polson-middle-school/calendar/85
 75865/pms-cross-country-corvallis-g-12-40-b-1-20-bus-departs-at-9-00-am
DTSTART:20250913T173000Z
DTEND:20250913T180000Z
END:VEVENT
END:VCALENDAR
