BEGIN:VCALENDAR
VERSION:2.0
PRODID:SchoolNow
CALSCALE:GREGORIAN
BEGIN:VEVENT
UID:2e3c1608-8906-11f0-82a9-0a58a9feac02
DTSTAMP:20251216T214632Z
SUMMARY:PMS Volleyball @ West Valley\, 4/5:00
URL;VALUE=URI:https://www.polson.k12.mt.us/polson-middle-school/calendar/85
 75864/pms-volleyball-west-valley-4-5-00
DTSTART:20250911T220000Z
DTEND:20250912T000000Z
END:VEVENT
END:VCALENDAR
