BEGIN:VCALENDAR
VERSION:2.0
PRODID:SchoolNow
CALSCALE:GREGORIAN
BEGIN:VEVENT
UID:2e3c14c8-8906-11f0-b198-0a58a9feac02
DTSTAMP:20251216T214632Z
SUMMARY:PMS Cross Country @ Kalispell\, Boys 1:15\, Girls 1:45\, Bus Depart
 s at 10:30
URL;VALUE=URI:https://www.polson.k12.mt.us/polson-middle-school/calendar/85
 75863/pms-cross-country-kalispell-boys-1-15-girls-1-45-bus-departs-at-10-3
 0
DTSTART:20250905T191500Z
DTEND:20250905T220000Z
END:VEVENT
END:VCALENDAR
