BEGIN:VCALENDAR
VERSION:2.0
PRODID:SchoolNow
CALSCALE:GREGORIAN
BEGIN:VEVENT
UID:2e3c118a-8906-11f0-8da6-0a58a9feac02
DTSTAMP:20251216T214632Z
SUMMARY:PMS Volleyball @ Hamilton 4:00\, Depart 12:30
URL;VALUE=URI:https://www.polson.k12.mt.us/polson-middle-school/calendar/85
 75862/pms-volleyball-hamilton-4-00-depart-12-30
DTSTART:20250904T220000Z
DTEND:20250905T000000Z
END:VEVENT
END:VCALENDAR
