BEGIN:VCALENDAR
VERSION:2.0
PRODID:SchoolNow
CALSCALE:GREGORIAN
BEGIN:VEVENT
UID:82d02908-82d9-11f0-84de-0a58a9feac02
DTSTAMP:20251216T214635Z
SUMMARY:PSD #23 Special Board Meeting - Remote Invite
LOCATION:Call In Virtual Meeting
URL;VALUE=URI:https://www.polson.k12.mt.us/polson-middle-school/calendar/85
 47454/psd-23-special-board-meeting-remote-invite
DTSTART:20250828T180000Z
DTEND:20250828T190000Z
END:VEVENT
END:VCALENDAR
