BEGIN:VCALENDAR
VERSION:2.0
PRODID:SchoolNow
CALSCALE:GREGORIAN
BEGIN:VEVENT
UID:d8ab7078-7d78-11f0-934b-0a58a9feac02
DTSTAMP:20251216T214635Z
SUMMARY:PSD #23 School Board Meeting
LOCATION:Polson School District Office
URL;VALUE=URI:https://www.polson.k12.mt.us/polson-middle-school/calendar/85
 23760/psd-23-school-board-meeting
DTSTART:20260309T233000Z
DTEND:20260310T003000Z
END:VEVENT
END:VCALENDAR
