BEGIN:VCALENDAR
VERSION:2.0
PRODID:SchoolNow
CALSCALE:GREGORIAN
BEGIN:VEVENT
UID:d8ab6e8e-7d78-11f0-b748-0a58a9feac02
DTSTAMP:20251216T214635Z
SUMMARY:PSD #23 School Board Meeting
LOCATION:Polson School District Office
URL;VALUE=URI:https://www.polson.k12.mt.us/polson-middle-school/calendar/85
 23758/psd-23-school-board-meeting
DTSTART:20260113T003000Z
DTEND:20260113T013000Z
END:VEVENT
END:VCALENDAR
