BEGIN:VCALENDAR
VERSION:2.0
PRODID:SchoolNow
CALSCALE:GREGORIAN
BEGIN:VEVENT
UID:19174128-787e-11f0-81b9-02f5246b18af
DTSTAMP:20251216T214632Z
SUMMARY:PATT Meeting
URL;VALUE=URI:https://www.polson.k12.mt.us/polson-middle-school/calendar/85
 05235/patt-meeting
DTSTART:20250827T000000Z
DTEND:20250827T010000Z
ATTACH;FILENAME="PATT Meeting - 2025/08/26 17:38 MDT - Recording";FMTTYPE=a
 pplication/octet-stream:https://drive.google.com/file/d/1MfRihEm9pfYMi81mE
 E0V3eJ3B24IULOF/view?usp=drive_web
ATTACH;FILENAME="PATT Meeting - 2025/08/26 17:38 MDT - Transcript";FMTTYPE=
 application/octet-stream:https://docs.google.com/document/d/1f3KNQr7NY92Iy
 ktXGrdLBXwfSi7vorhQKaCd5je2QOk/edit?usp=drive_web
END:VEVENT
END:VCALENDAR
