BEGIN:VCALENDAR
VERSION:2.0
PRODID:SchoolNow
CALSCALE:GREGORIAN
BEGIN:VEVENT
UID:19174010-787e-11f0-b1e2-02f5246b18af
DTSTAMP:20251216T214632Z
SUMMARY:PATT Meeting
URL;VALUE=URI:https://www.polson.k12.mt.us/polson-middle-school/calendar/85
 05234/patt-meeting
DTSTART:20251001T000000Z
DTEND:20251001T010000Z
ATTACH;FILENAME="PATT Meeting - 2025/09/30 18:07 MDT - Recording";FMTTYPE=a
 pplication/octet-stream:https://drive.google.com/file/d/1FBr4hyrUdMnwavF8v
 MSdI_T6FEManvjY/view?usp=drive_web
END:VEVENT
END:VCALENDAR
