BEGIN:VCALENDAR
VERSION:2.0
PRODID:SchoolNow
CALSCALE:GREGORIAN
BEGIN:VEVENT
UID:19173e76-787e-11f0-9452-02f5246b18af
DTSTAMP:20251216T214632Z
SUMMARY:PATT Meeting
URL;VALUE=URI:https://www.polson.k12.mt.us/polson-middle-school/calendar/85
 05233/patt-meeting
DTSTART:20250917T000000Z
DTEND:20250917T010000Z
ATTACH;FILENAME="PATT Meeting - 2025/09/16 18:00 MDT - Recording";FMTTYPE=a
 pplication/octet-stream:https://drive.google.com/file/d/1TNoNckFF29AWvrmqG
 UoJ-Q1seNWEtULe/view?usp=drive_web
END:VEVENT
END:VCALENDAR
