BEGIN:VCALENDAR
VERSION:2.0
PRODID:SchoolNow
CALSCALE:GREGORIAN
BEGIN:VEVENT
UID:1917349e-787e-11f0-94f6-02f5246b18af
DTSTAMP:20251216T214632Z
SUMMARY:PATT Chamber Block Party FACE PAINTING
URL;VALUE=URI:https://www.polson.k12.mt.us/polson-middle-school/calendar/85
 05232/patt-chamber-block-party-face-painting
DTSTART:20250821T230000Z
DTEND:20250822T020000Z
END:VEVENT
END:VCALENDAR
