BEGIN:VCALENDAR
VERSION:2.0
PRODID:SchoolNow
CALSCALE:GREGORIAN
BEGIN:VEVENT
UID:4f04154a-7482-11f0-9b3f-0afff92c9fcb
DTSTAMP:20251216T214632Z
SUMMARY:PMS Sports Meeting
URL;VALUE=URI:https://www.polson.k12.mt.us/polson-middle-school/calendar/84
 83260/pms-sports-meeting
DTSTART:20250826T000000Z
DTEND:20250826T010000Z
END:VEVENT
END:VCALENDAR
