BEGIN:VCALENDAR
VERSION:2.0
PRODID:SchoolNow
CALSCALE:GREGORIAN
BEGIN:VEVENT
UID:75edc9ea-7251-11f0-bbbb-0a58a9feac02
DTSTAMP:20251216T214632Z
SUMMARY:Open House
URL;VALUE=URI:https://www.polson.k12.mt.us/polson-middle-school/calendar/84
 73771/open-house
DTSTART:20250908T220000Z
DTEND:20250909T000000Z
END:VEVENT
END:VCALENDAR
