BEGIN:VCALENDAR
VERSION:2.0
PRODID:SchoolNow
CALSCALE:GREGORIAN
BEGIN:VEVENT
UID:aa1345b8-4580-11f0-8bfb-0a58a9feac02
DTSTAMP:20251216T214632Z
SUMMARY:Music in the Missions (Jazz Band)
URL;VALUE=URI:https://www.polson.k12.mt.us/polson-middle-school/calendar/82
 77132/music-in-the-missions-jazz-band
DTSTART:20260430T003000Z
DTEND:20260430T013000Z
END:VEVENT
END:VCALENDAR
