BEGIN:VCALENDAR
VERSION:2.0
PRODID:SchoolNow
CALSCALE:GREGORIAN
BEGIN:VEVENT
UID:aa1343ce-4580-11f0-9bd2-0a58a9feac02
DTSTAMP:20251216T214632Z
SUMMARY:Band Concert
URL;VALUE=URI:https://www.polson.k12.mt.us/polson-middle-school/calendar/82
 77130/band-concert
DTSTART:20260312T010000Z
DTEND:20260312T020000Z
END:VEVENT
END:VCALENDAR
