BEGIN:VCALENDAR
VERSION:2.0
PRODID:SchoolNow
CALSCALE:GREGORIAN
BEGIN:VEVENT
UID:aa1342de-4580-11f0-a6d8-0a58a9feac02
DTSTAMP:20251216T214632Z
SUMMARY:Youth Sing
URL;VALUE=URI:https://www.polson.k12.mt.us/polson-middle-school/calendar/82
 77129/youth-sing
DTSTART;VALUE=DATE:20260227
DTEND;VALUE=DATE:20260228
END:VEVENT
END:VCALENDAR
