BEGIN:VCALENDAR
VERSION:2.0
PRODID:SchoolNow
CALSCALE:GREGORIAN
BEGIN:VEVENT
UID:aa1340e0-4580-11f0-b247-0a58a9feac02
DTSTAMP:20251216T214632Z
SUMMARY:Choir Concert
URL;VALUE=URI:https://www.polson.k12.mt.us/polson-middle-school/calendar/82
 77127/choir-concert
DTSTART:20251210T010000Z
DTEND:20251210T020000Z
END:VEVENT
END:VCALENDAR
