BEGIN:VCALENDAR
VERSION:2.0
PRODID:SchoolNow
CALSCALE:GREGORIAN
BEGIN:VEVENT
UID:aa133b36-4580-11f0-b24a-0a58a9feac02
DTSTAMP:20251216T214632Z
SUMMARY:Instrument Rentals (Band)
URL;VALUE=URI:https://www.polson.k12.mt.us/polson-middle-school/calendar/82
 77124/instrument-rentals-band
DTSTART:20250917T230000Z
DTEND:20250918T000000Z
END:VEVENT
END:VCALENDAR
