BEGIN:VCALENDAR
VERSION:2.0
PRODID:SchoolNow
CALSCALE:GREGORIAN
BEGIN:VEVENT
UID:7de1e056-3e92-11f1-aac4-0a58a9feac02
DTSTAMP:20260424T221025Z
SUMMARY:BBB Open Gym
LOCATION:LIND-1-Linderman Gym (1600)
URL;VALUE=URI:https://www.polson.k12.mt.us/polson-high-school/calendar/9011
 775/bbb-open-gym
DTSTART:20260703T000000Z
DTEND:20260703T013000Z
END:VEVENT
END:VCALENDAR
