BEGIN:VCALENDAR
VERSION:2.0
PRODID:SchoolNow
CALSCALE:GREGORIAN
BEGIN:VEVENT
UID:7de1dbc4-3e92-11f1-b7e6-0a58a9feac02
DTSTAMP:20260424T160528Z
SUMMARY:BBB Open Gym
LOCATION:LIND-1-Linderman Gym (1600)
URL;VALUE=URI:https://www.polson.k12.mt.us/polson-high-school/calendar/9011
 770/bbb-open-gym
DTSTART:20260529T000000Z
DTEND:20260529T013000Z
END:VEVENT
END:VCALENDAR
