BEGIN:VCALENDAR
VERSION:2.0
PRODID:SchoolNow
CALSCALE:GREGORIAN
BEGIN:VEVENT
UID:7de1d48a-3e92-11f1-a3bc-0a58a9feac02
DTSTAMP:20260424T160528Z
SUMMARY:GBB Open Gym
URL;VALUE=URI:https://www.polson.k12.mt.us/polson-high-school/calendar/9011
 762/gbb-open-gym
DTSTART:20260701T013000Z
DTEND:20260701T030000Z
END:VEVENT
END:VCALENDAR
