BEGIN:VCALENDAR
VERSION:2.0
PRODID:SchoolNow
CALSCALE:GREGORIAN
BEGIN:VEVENT
UID:7de1d0fc-3e92-11f1-a0ed-0a58a9feac02
DTSTAMP:20260424T160528Z
SUMMARY:GBB Open Gym
URL;VALUE=URI:https://www.polson.k12.mt.us/polson-high-school/calendar/9011
 758/gbb-open-gym
DTSTART:20260603T013000Z
DTEND:20260603T030000Z
END:VEVENT
END:VCALENDAR
