BEGIN:VCALENDAR
VERSION:2.0
PRODID:SchoolNow
CALSCALE:GREGORIAN
BEGIN:VEVENT
UID:7de1c9ae-3e92-11f1-9056-0a58a9feac02
DTSTAMP:20260424T160528Z
SUMMARY:BBB Open Gym
LOCATION:LIND-1-Linderman Gym (1600)
URL;VALUE=URI:https://www.polson.k12.mt.us/polson-high-school/calendar/9011
 750/bbb-open-gym
DTSTART:20260608T231500Z
DTEND:20260609T004500Z
END:VEVENT
END:VCALENDAR
