BEGIN:VCALENDAR
VERSION:2.0
PRODID:SchoolNow
CALSCALE:GREGORIAN
BEGIN:VEVENT
UID:7de1c422-3e92-11f1-bc8e-0a58a9feac02
DTSTAMP:20260424T221025Z
SUMMARY:VB Open Gym
LOCATION:LIND-1-Linderman Gym (1600)
URL;VALUE=URI:https://www.polson.k12.mt.us/polson-high-school/calendar/9011
 744/vb-open-gym
DTSTART:20260728T010000Z
DTEND:20260728T030000Z
END:VEVENT
END:VCALENDAR
