BEGIN:VCALENDAR
VERSION:2.0
PRODID:SchoolNow
CALSCALE:GREGORIAN
BEGIN:VEVENT
UID:7de1c242-3e92-11f1-8de8-0a58a9feac02
DTSTAMP:20260424T221025Z
SUMMARY:VB Open Gym
LOCATION:LIND-1-Linderman Gym (1600)
URL;VALUE=URI:https://www.polson.k12.mt.us/polson-high-school/calendar/9011
 742/vb-open-gym
DTSTART:20260714T010000Z
DTEND:20260714T030000Z
END:VEVENT
END:VCALENDAR
