BEGIN:VCALENDAR
VERSION:2.0
PRODID:SchoolNow
CALSCALE:GREGORIAN
BEGIN:VEVENT
UID:86b004fa-3dc6-11f1-837e-0a58a9feac02
DTSTAMP:20260424T221025Z
SUMMARY:Purple and Gold Day
LOCATION:Linderman School\, 312 4th Ave E\, Polson\, MT 59860\, USA
URL;VALUE=URI:https://www.polson.k12.mt.us/polson-high-school/calendar/9009
 718/purple-and-gold-day
DTSTART;VALUE=DATE:20260820
DTEND;VALUE=DATE:20260821
END:VEVENT
END:VCALENDAR
