BEGIN:VCALENDAR
VERSION:2.0
PRODID:SchoolNow
CALSCALE:GREGORIAN
BEGIN:VEVENT
UID:aac1b28a-3ac9-11f1-a19a-0ee6daf34bf1
DTSTAMP:20260424T160528Z
SUMMARY:BB @ Lincoln Co.
LOCATION:Eureka\, MT\, USA
URL;VALUE=URI:https://www.polson.k12.mt.us/polson-high-school/calendar/9001
 722/bb-lincoln-co
DTSTART:20260508T210000Z
DTEND:20260509T020000Z
END:VEVENT
END:VCALENDAR
