BEGIN:VCALENDAR
VERSION:2.0
PRODID:SchoolNow
CALSCALE:GREGORIAN
BEGIN:VEVENT
UID:aac1b190-3ac9-11f1-adc3-0ee6daf34bf1
DTSTAMP:20260424T160528Z
SUMMARY:BB vs Browning (Doubleheader)
LOCATION:O'Malley-1-O'Malley Baseball Park (300)
URL;VALUE=URI:https://www.polson.k12.mt.us/polson-high-school/calendar/9001
 721/bb-vs-browning-doubleheader
DTSTART:20260429T210000Z
DTEND:20260430T010000Z
END:VEVENT
END:VCALENDAR
