BEGIN:VCALENDAR
VERSION:2.0
PRODID:SchoolNow
CALSCALE:GREGORIAN
BEGIN:VEVENT
UID:aac1b078-3ac9-11f1-a3b3-0ee6daf34bf1
DTSTAMP:20260424T160528Z
SUMMARY:BB vs Frenchtown
LOCATION:O'Malley-1-O'Malley Baseball Park (300)
URL;VALUE=URI:https://www.polson.k12.mt.us/polson-high-school/calendar/9001
 720/bb-vs-frenchtown
DTSTART:20260501T210000Z
DTEND:20260502T020000Z
END:VEVENT
END:VCALENDAR
