BEGIN:VCALENDAR
VERSION:2.0
PRODID:SchoolNow
CALSCALE:GREGORIAN
BEGIN:VEVENT
UID:aac1ac4a-3ac9-11f1-93bd-0ee6daf34bf1
DTSTAMP:20260424T160528Z
SUMMARY:BB vs CFalls
LOCATION:O'Malley-1-O'Malley Baseball Park (300)
URL;VALUE=URI:https://www.polson.k12.mt.us/polson-high-school/calendar/9001
 718/bb-vs-cfalls
DTSTART:20260428T210000Z
DTEND:20260429T020000Z
END:VEVENT
END:VCALENDAR
