BEGIN:VCALENDAR
VERSION:2.0
PRODID:SchoolNow
CALSCALE:GREGORIAN
BEGIN:VEVENT
UID:aac1a90c-3ac9-11f1-a710-0ee6daf34bf1
DTSTAMP:20260424T160528Z
SUMMARY:SB vs Billings Central (Bette Paskey Memorial Tourney)
LOCATION:Frenchtown Junior High School\, 17620 Frenchtown Frontage Rd\, Fre
 nchtown\, MT 59834\, USA
URL;VALUE=URI:https://www.polson.k12.mt.us/polson-high-school/calendar/9001
 716/sb-vs-billings-central-bette-paskey-memorial-tourney
DTSTART:20260502T225500Z
DTEND:20260503T002500Z
END:VEVENT
END:VCALENDAR
