BEGIN:VCALENDAR
VERSION:2.0
PRODID:SchoolNow
CALSCALE:GREGORIAN
BEGIN:VEVENT
UID:aac1a1a0-3ac9-11f1-9b5d-0ee6daf34bf1
DTSTAMP:20260424T160528Z
SUMMARY:BB vs Libby
LOCATION:O'Malley-1-O'Malley Baseball Park (300)
URL;VALUE=URI:https://www.polson.k12.mt.us/polson-high-school/calendar/9001
 714/bb-vs-libby
DTSTART:20260507T210000Z
DTEND:20260508T020000Z
END:VEVENT
END:VCALENDAR
