BEGIN:VCALENDAR
VERSION:2.0
PRODID:SchoolNow
CALSCALE:GREGORIAN
BEGIN:VEVENT
UID:ae0551d2-3a96-11f1-9a78-0a58a9feac02
DTSTAMP:20260420T023525Z
SUMMARY:BB @ Libby
URL;VALUE=URI:https://www.polson.k12.mt.us/polson-high-school/calendar/9001
 053/bb-libby
DTSTART:20260421T230000Z
DTEND:20260422T040000Z
END:VEVENT
END:VCALENDAR
